BEGIN:VCALENDAR
VERSION:2.0
PRODID:icalendar-ruby
CALSCALE:GREGORIAN
METHOD:PUBLISH
BEGIN:VEVENT
DTSTAMP:20260421T132803Z
UID:7-308638@firstbaptistblanket.org
DTSTART:20261011T170000Z
DTEND:20261011T180000Z
CLASS:PUBLIC
CREATED:20260421T052733
DESCRIPTION:Bible Study for all ages
LAST-MODIFIED:20260421T052733
LOCATION:
SUMMARY:Bible Study for all ages
URL;VALUE=URI:https://www.firstbaptistblanket.org/events/bible-study-for-al
 l-ages/2026-10-11
END:VEVENT
END:VCALENDAR
