BEGIN:VCALENDAR
VERSION:2.0
PRODID:icalendar-ruby
CALSCALE:GREGORIAN
METHOD:PUBLISH
BEGIN:VEVENT
DTSTAMP:20260421T153131Z
UID:7-308814@firstbaptistblanket.org
DTSTART:20261018T170000Z
DTEND:20261018T180000Z
CLASS:PUBLIC
CREATED:20260421T080258
DESCRIPTION:Bible Study for all ages
LAST-MODIFIED:20260421T080258
LOCATION:
SUMMARY:Bible Study for all ages
URL;VALUE=URI:https://www.firstbaptistblanket.org/events/bible-study-for-al
 l-ages/2026-10-18
END:VEVENT
END:VCALENDAR
