BEGIN:VCALENDAR
VERSION:2.0
PRODID:icalendar-ruby
CALSCALE:GREGORIAN
METHOD:PUBLISH
BEGIN:VEVENT
DTSTAMP:20260421T190900Z
UID:7-308991@firstbaptistblanket.org
DTSTART:20261101T180000Z
DTEND:20261101T190000Z
CLASS:PUBLIC
CREATED:20260421T104317
DESCRIPTION:Bible Study for all ages
LAST-MODIFIED:20260421T104317
LOCATION:
SUMMARY:Bible Study for all ages
URL;VALUE=URI:https://www.firstbaptistblanket.org/events/bible-study-for-al
 l-ages/2026-11-01
END:VEVENT
END:VCALENDAR
